BEGIN:VCALENDAR
VERSION:2.0
PRODID:-//Highland Canine Training - ECPv6.15.10//NONSGML v1.0//EN
CALSCALE:GREGORIAN
METHOD:PUBLISH
X-WR-CALNAME:Highland Canine Training
X-ORIGINAL-URL:https://highlandcanine.com
X-WR-CALDESC:Events for Highland Canine Training
REFRESH-INTERVAL;VALUE=DURATION:PT1H
X-Robots-Tag:noindex
X-PUBLISHED-TTL:PT1H
BEGIN:VTIMEZONE
TZID:America/New_York
BEGIN:DAYLIGHT
TZOFFSETFROM:-0500
TZOFFSETTO:-0400
TZNAME:EDT
DTSTART:20250309T070000
END:DAYLIGHT
BEGIN:STANDARD
TZOFFSETFROM:-0400
TZOFFSETTO:-0500
TZNAME:EST
DTSTART:20251102T060000
END:STANDARD
BEGIN:DAYLIGHT
TZOFFSETFROM:-0500
TZOFFSETTO:-0400
TZNAME:EDT
DTSTART:20260308T070000
END:DAYLIGHT
BEGIN:STANDARD
TZOFFSETFROM:-0400
TZOFFSETTO:-0500
TZNAME:EST
DTSTART:20261101T060000
END:STANDARD
BEGIN:DAYLIGHT
TZOFFSETFROM:-0500
TZOFFSETTO:-0400
TZNAME:EDT
DTSTART:20270314T070000
END:DAYLIGHT
BEGIN:STANDARD
TZOFFSETFROM:-0400
TZOFFSETTO:-0500
TZNAME:EST
DTSTART:20271107T060000
END:STANDARD
END:VTIMEZONE
BEGIN:VEVENT
DTSTART;TZID=America/New_York:20260411T090000
DTEND;TZID=America/New_York:20260411T100000
DTSTAMP:20260422T134508
CREATED:20260311T035122Z
LAST-MODIFIED:20260311T035122Z
UID:16825-1775898000-1775901600@highlandcanine.com
SUMMARY:Hickory\, NC: Basic Obedience Group Class (April 11\, 2026 to May 16\, 2026)
DESCRIPTION:Our next Basic Obedience group class begins on April 11\, 2026! This class runs for six weeks and is a great way to teach your dog their fundamental obedience commands. \nClass Location\nPet Supermarket: 3000 N Center St\, Hickory\, NC 28601. \nClass Dates & Times\nApril 11\, 2026 to May 16\, 2026\n9:00am to 10:00am \nCurriculum\nSee a link to our Basic Obedience Group Class curriculum here. \nTrainer Contact Details\nMagdalena Szymanska – mag@highlandcanine.com \nRegistration\nDue to demand\, registration and a $50 deposit is required for our group classes. You can make your deposit via PayPal through the secure form below. \n\n \n\n\n\n\nYour Full Name\n\n\n\n\n\n\nYour Dog’s Name
URL:https://highlandcanine.com/event/hickory-nc-basic-obedience-group-class-april-11-2026-to-may-16-2026/
LOCATION:Pet Supermarket (Hickory)\, 3000 N Center St\, Hickory\, NC\, 28601\, United States
CATEGORIES:Group dog Training Classes
ATTACH;FMTTYPE=image/jpeg:https://highlandcanine.com/wp-content/uploads/2026/01/dog-learning-to-sit.jpg
END:VEVENT
BEGIN:VEVENT
DTSTART;TZID=America/New_York:20260404T103000
DTEND;TZID=America/New_York:20260404T113000
DTSTAMP:20260422T134508
CREATED:20260311T034835Z
LAST-MODIFIED:20260311T035355Z
UID:16823-1775298600-1775302200@highlandcanine.com
SUMMARY:Hickory\, NC: Intermediate Obedience Group Class (April 4\, 2026 to May 9\, 2026)
DESCRIPTION:Our next Intermediate Obedience group class begins on April 4\, 2026! This class is a great way to build on the commands and cues your dog learned in our Basic Obedience class. \nClass Location\nPet Supermarket: 3000 N Center St\, Hickory\, NC 28601. \nClass Dates & Times\nApril 4\, 2026 to May 9\, 2026\n10:30am to 11:30am \nCurriculum\nSee a link to our Intermediate Obedience Group Class curriculum here. \nTrainer Contact Details\nMagdalena Szymanska – mag@highlandcanine.com \nRegistration\nDue to demand\, registration and a $50 deposit is required for our group classes. You can make your deposit via PayPal through the secure form below. \n\n \n\n\n\n\nYour Full Name\n\n\n\n\n\n\nYour Dog’s Name
URL:https://highlandcanine.com/event/hickory-nc-intermediate-obedience-april-4-2026/
LOCATION:Pet Supermarket (Hickory)\, 3000 N Center St\, Hickory\, NC\, 28601\, United States
CATEGORIES:Group dog Training Classes
ATTACH;FMTTYPE=image/jpeg:https://highlandcanine.com/wp-content/uploads/2026/01/how-to-set-dog-training-goals.jpg
END:VEVENT
BEGIN:VEVENT
DTSTART;TZID=America/New_York:20260131T100000
DTEND;TZID=America/New_York:20260131T110000
DTSTAMP:20260422T134508
CREATED:20251216T163042Z
LAST-MODIFIED:20260212T155558Z
UID:16545-1769853600-1769857200@highlandcanine.com
SUMMARY:Hickory\, NC: Basic Obedience Group Class (January 31\, 2026 to March 7\, 2026)
DESCRIPTION:Our next Basic Obedience group class begins on January 31\, 2026! This class runs for six weeks and is a great way to teach your dog their fundamental obedience commands. \nClass Location\nPet Supermarket: 3000 N Center St\, Hickory\, NC 28601. \nClass Dates & Times\nJanuary 31\, 2026 to March 7\, 2026\n10:00am to 11:00am \nCurriculum\nSee a link to our Basic Obedience Group Class curriculum here. \nTrainer Contact Details\nMagdalena Szymanska – mag@highlandcanine.com \nRegistration\nDue to demand\, registration and a $50 deposit is required for our group classes. You can make your deposit via PayPal through the secure form below.
URL:https://highlandcanine.com/event/hickory-nc-basic-obedience-group-class-january-31-2026-to-march-7-2026/
LOCATION:Pet Supermarket (Hickory)\, 3000 N Center St\, Hickory\, NC\, 28601\, United States
CATEGORIES:Group dog Training Classes
ATTACH;FMTTYPE=image/jpeg:https://highlandcanine.com/wp-content/uploads/2025/08/preventative-training-for-shelter-dogs.jpg
END:VEVENT
END:VCALENDAR