BEGIN:VCALENDAR
VERSION:2.0
PRODID:-//Highland Canine Training - ECPv6.15.10//NONSGML v1.0//EN
CALSCALE:GREGORIAN
METHOD:PUBLISH
X-ORIGINAL-URL:https://highlandcanine.com
X-WR-CALDESC:Events for Highland Canine Training
REFRESH-INTERVAL;VALUE=DURATION:PT1H
X-Robots-Tag:noindex
X-PUBLISHED-TTL:PT1H
BEGIN:VTIMEZONE
TZID:America/New_York
BEGIN:DAYLIGHT
TZOFFSETFROM:-0500
TZOFFSETTO:-0400
TZNAME:EDT
DTSTART:20130310T070000
END:DAYLIGHT
BEGIN:STANDARD
TZOFFSETFROM:-0400
TZOFFSETTO:-0500
TZNAME:EST
DTSTART:20131103T060000
END:STANDARD
BEGIN:DAYLIGHT
TZOFFSETFROM:-0500
TZOFFSETTO:-0400
TZNAME:EDT
DTSTART:20140309T070000
END:DAYLIGHT
BEGIN:STANDARD
TZOFFSETFROM:-0400
TZOFFSETTO:-0500
TZNAME:EST
DTSTART:20141102T060000
END:STANDARD
BEGIN:DAYLIGHT
TZOFFSETFROM:-0500
TZOFFSETTO:-0400
TZNAME:EDT
DTSTART:20150308T070000
END:DAYLIGHT
BEGIN:STANDARD
TZOFFSETFROM:-0400
TZOFFSETTO:-0500
TZNAME:EST
DTSTART:20151101T060000
END:STANDARD
END:VTIMEZONE
BEGIN:VEVENT
DTSTART;TZID=America/New_York:20140303T080000
DTEND;TZID=America/New_York:20140307T170000
DTSTAMP:20260423T041823
CREATED:20140127T211827Z
LAST-MODIFIED:20140127T212725Z
UID:1255-1393833600-1394211600@highlandcanine.com
SUMMARY:2014 K9 Training & Problem Solving Workshop
DESCRIPTION:American Aluminum Accessories\n2014 K9 Training & Problem Solving Workshop\nMarch 3-7\, 2014\nPerry\, Florida
URL:https://highlandcanine.com/event/2014-k9-training-problem-solving-workshop/
LOCATION:American Aluminum Accessories\, 3882 US 19 South\, Perry\, FL\, 32348\, United States
CATEGORIES:Police K9 Training
END:VEVENT
END:VCALENDAR