BEGIN:VCALENDAR
VERSION:2.0
PRODID:-//Highland Canine Training - ECPv6.15.10//NONSGML v1.0//EN
CALSCALE:GREGORIAN
METHOD:PUBLISH
X-ORIGINAL-URL:https://highlandcanine.com
X-WR-CALDESC:Events for Highland Canine Training
REFRESH-INTERVAL;VALUE=DURATION:PT1H
X-Robots-Tag:noindex
X-PUBLISHED-TTL:PT1H
BEGIN:VTIMEZONE
TZID:America/New_York
BEGIN:DAYLIGHT
TZOFFSETFROM:-0500
TZOFFSETTO:-0400
TZNAME:EDT
DTSTART:20240310T070000
END:DAYLIGHT
BEGIN:STANDARD
TZOFFSETFROM:-0400
TZOFFSETTO:-0500
TZNAME:EST
DTSTART:20241103T060000
END:STANDARD
BEGIN:DAYLIGHT
TZOFFSETFROM:-0500
TZOFFSETTO:-0400
TZNAME:EDT
DTSTART:20250309T070000
END:DAYLIGHT
BEGIN:STANDARD
TZOFFSETFROM:-0400
TZOFFSETTO:-0500
TZNAME:EST
DTSTART:20251102T060000
END:STANDARD
BEGIN:DAYLIGHT
TZOFFSETFROM:-0500
TZOFFSETTO:-0400
TZNAME:EDT
DTSTART:20260308T070000
END:DAYLIGHT
BEGIN:STANDARD
TZOFFSETFROM:-0400
TZOFFSETTO:-0500
TZNAME:EST
DTSTART:20261101T060000
END:STANDARD
END:VTIMEZONE
BEGIN:VEVENT
DTSTART;TZID=America/New_York:20250805T180000
DTEND;TZID=America/New_York:20250805T190000
DTSTAMP:20260421T044936
CREATED:20250718T163101Z
LAST-MODIFIED:20250718T163101Z
UID:15904-1754416800-1754420400@highlandcanine.com
SUMMARY:Hanceville\, AL: Basic Obedience Group Class (August 5\, 2025 to September 9\, 2025)
DESCRIPTION:Our next Basic Obedience Group Class begins on August 5\, 2025! This class runs for six weeks and is the perfect way to teach your dog the fundamental commands\, in addition to offering excellent socialization opportunities. \nClass Location\n4339 CR-216 Hanceville\, AL 35077 \nClass Dates & Times\nTuesday August 5\, 2025 to Tuesday September 9\, 2025\n6:00pm to 7:00pm \nTrainer Contact Details\nShae Slabaugh\n(205) 600-4386\nshae@highlandcanine.com \nCurriculum\nSee a link to our Basic Obedience curriculum here. \nRegistration \nDue to demand\, registration and a $50 deposit is required for our group classes. You can make your deposit via PayPal through the secure form below. \n  \n\n  \n   \n\n\n\n        \n        Your Full Name\n      \n\n\n\n        \n      \n\n\n\n        \n        Your Dog's Name
URL:https://highlandcanine.com/event/hanceville-al-basic-obedience-group-class-august-5-2025-to-september-9-2025/
LOCATION:School for Dog Trainers – Southeast Campus\, 4339 CR-216\, Hanceville\, AL\, 35077\, United States
ATTACH;FMTTYPE=image/jpeg:https://highlandcanine.com/wp-content/uploads/2024/11/dog-tricks.jpg
END:VEVENT
BEGIN:VEVENT
DTSTART;TZID=America/New_York:20250617T180000
DTEND;TZID=America/New_York:20250617T190000
DTSTAMP:20260421T044936
CREATED:20250529T204528Z
LAST-MODIFIED:20250529T211019Z
UID:15651-1750183200-1750186800@highlandcanine.com
SUMMARY:Hanceville\, AL: Basic Obedience Group Class (June 17\, 2025 to July 22\, 2025)
DESCRIPTION:Our next Basic Obedience Group Class begins on June 17\, 2025! This class runs for six weeks and is the perfect way to teach your dog the fundamental commands\, in addition to offering excellent socialization opportunities. \nClass Location\n4339 CR-216 Hanceville\, AL 35077 \nClass Dates & Times\nTuesday June 17\, 2025 to Tuesday July 22\, 2025\n6:00pm to 7:00pm \nTrainer Contact Details\nShae Slabaugh\n(205) 600-4386\nshae@highlandcanine.com \nCurriculum\nSee a link to our Basic Obedience curriculum here. \nRegistration \nDue to demand\, registration and a $50 deposit is required for our group classes. You can make your deposit via PayPal through the secure form below. \n \n\n \n\n\n\n\nYour Full Name\n\n\n\n\n\n\nYour Dog’s Name
URL:https://highlandcanine.com/event/hanceville-al-basic-obedience-group-class-june-17-2025-to-july-22-2025/
LOCATION:School for Dog Trainers – Southeast Campus\, 4339 CR-216\, Hanceville\, AL\, 35077\, United States
ATTACH;FMTTYPE=image/jpeg:https://highlandcanine.com/wp-content/uploads/2024/11/labrador-puppy.jpg
END:VEVENT
END:VCALENDAR