BEGIN:VCALENDAR
VERSION:2.0
PRODID:-//Highland Canine Training - ECPv6.15.10//NONSGML v1.0//EN
CALSCALE:GREGORIAN
METHOD:PUBLISH
X-WR-CALNAME:Highland Canine Training
X-ORIGINAL-URL:https://highlandcanine.com
X-WR-CALDESC:Events for Highland Canine Training
REFRESH-INTERVAL;VALUE=DURATION:PT1H
X-Robots-Tag:noindex
X-PUBLISHED-TTL:PT1H
BEGIN:VTIMEZONE
TZID:America/New_York
BEGIN:DAYLIGHT
TZOFFSETFROM:-0500
TZOFFSETTO:-0400
TZNAME:EDT
DTSTART:20250309T070000
END:DAYLIGHT
BEGIN:STANDARD
TZOFFSETFROM:-0400
TZOFFSETTO:-0500
TZNAME:EST
DTSTART:20251102T060000
END:STANDARD
BEGIN:DAYLIGHT
TZOFFSETFROM:-0500
TZOFFSETTO:-0400
TZNAME:EDT
DTSTART:20260308T070000
END:DAYLIGHT
BEGIN:STANDARD
TZOFFSETFROM:-0400
TZOFFSETTO:-0500
TZNAME:EST
DTSTART:20261101T060000
END:STANDARD
BEGIN:DAYLIGHT
TZOFFSETFROM:-0500
TZOFFSETTO:-0400
TZNAME:EDT
DTSTART:20270314T070000
END:DAYLIGHT
BEGIN:STANDARD
TZOFFSETFROM:-0400
TZOFFSETTO:-0500
TZNAME:EST
DTSTART:20271107T060000
END:STANDARD
END:VTIMEZONE
BEGIN:VEVENT
DTSTART;TZID=America/New_York:20260502T100000
DTEND;TZID=America/New_York:20260502T110000
DTSTAMP:20260422T105308
CREATED:20260418T031226Z
LAST-MODIFIED:20260418T031431Z
UID:16978-1777716000-1777719600@highlandcanine.com
SUMMARY:Harmony\, NC: Ground Work for Dock Diving Group Class (May 2\, 2026 to May 23\, 2026)
DESCRIPTION:Our next Ground Work for Dock Diving group class begins on May 2\, 2026! This class runs for four weeks and helps to build the fundamental skills your dog needs for success when they step into a dock diving pool. \nClass Location\nSchool for Dog Trainers\, Main Campus (162 Early Ln\, Harmony\, NC 28634). \nClass Dates & Times\nMay 2\, 2026 to May 23\, 2026\n10:00am to 11:00am \nCurriculum\nSee a link to our Ground Work for Dock Diving Group Class curriculum here. \nTrainer Contact Details\nJason Purgason – jpurgason@highlandcanine.com \nRegistration\nDue to demand\, registration and a $50 deposit is required for our group classes. You can make your deposit via PayPal through the secure form below. \n\n \n\n\n\n\nYour Full Name\n\n\n\n\n\n\nYour Dog’s Name
URL:https://highlandcanine.com/event/harmony-nc-ground-work-for-dock-diving-group-class-may-2-2026-to-may-23-2026/
LOCATION:School for Dog Trainers – Main Campus\, 162 Early Ln\, Harmony\, NC\, 28634\, United States
CATEGORIES:Group dog Training Classes
ATTACH;FMTTYPE=image/jpeg:https://highlandcanine.com/wp-content/uploads/2023/05/dock-diving-group-classes.jpg
END:VEVENT
BEGIN:VEVENT
DTSTART;TZID=America/New_York:20260502T110000
DTEND;TZID=America/New_York:20260502T120000
DTSTAMP:20260422T105308
CREATED:20260418T031659Z
LAST-MODIFIED:20260418T031811Z
UID:16981-1777719600-1777723200@highlandcanine.com
SUMMARY:Harmony\, NC: Intro to Dock Diving Group Class (May 2\, 2026 to May 23\, 2026)
DESCRIPTION:Our next Intro to Dock Diving group class begins on May 2\, 2026! In this class\, your dog will learn how to safely swim in the water and jump into the pool. Once their confidence increases\, they will be able to work on improving the height and distance of their jumps. \nClass Location\nSchool for Dog Trainers\, Main Campus (162 Early Ln\, Harmony\, NC 28634). \nClass Dates & Times\nMay 2\, 2026 to May 23\, 2026\n11:00am to 12:00pm \nCurriculum\nSee a link to our Intro to Dock Diving Group Class curriculum here. \nTrainer Contact Details\nJason Purgason – jpurgason@highlandcanine.com \nRegistration\nDue to demand\, registration and a $50 deposit is required for our group classes. You can make your deposit via PayPal through the secure form below. \n\n \n\n\n\n\nYour Full Name\n\n\n\n\n\n\nYour Dog’s Name
URL:https://highlandcanine.com/event/harmony-nc-intro-to-dock-diving-group-class-may-2-2026-to-may-23-2026/
LOCATION:School for Dog Trainers – Main Campus\, 162 Early Ln\, Harmony\, NC\, 28634\, United States
CATEGORIES:Group dog Training Classes
ATTACH;FMTTYPE=image/jpeg:https://highlandcanine.com/wp-content/uploads/2023/05/highland-canine-dock-diving.jpg
END:VEVENT
END:VCALENDAR