BEGIN:VCALENDAR
VERSION:2.0
PRODID:-//Highland Canine Training - ECPv6.15.10//NONSGML v1.0//EN
CALSCALE:GREGORIAN
METHOD:PUBLISH
X-ORIGINAL-URL:https://highlandcanine.com
X-WR-CALDESC:Events for Highland Canine Training
REFRESH-INTERVAL;VALUE=DURATION:PT1H
X-Robots-Tag:noindex
X-PUBLISHED-TTL:PT1H
BEGIN:VTIMEZONE
TZID:America/New_York
BEGIN:DAYLIGHT
TZOFFSETFROM:-0500
TZOFFSETTO:-0400
TZNAME:EDT
DTSTART:20240310T070000
END:DAYLIGHT
BEGIN:STANDARD
TZOFFSETFROM:-0400
TZOFFSETTO:-0500
TZNAME:EST
DTSTART:20241103T060000
END:STANDARD
BEGIN:DAYLIGHT
TZOFFSETFROM:-0500
TZOFFSETTO:-0400
TZNAME:EDT
DTSTART:20250309T070000
END:DAYLIGHT
BEGIN:STANDARD
TZOFFSETFROM:-0400
TZOFFSETTO:-0500
TZNAME:EST
DTSTART:20251102T060000
END:STANDARD
BEGIN:DAYLIGHT
TZOFFSETFROM:-0500
TZOFFSETTO:-0400
TZNAME:EDT
DTSTART:20260308T070000
END:DAYLIGHT
BEGIN:STANDARD
TZOFFSETFROM:-0400
TZOFFSETTO:-0500
TZNAME:EST
DTSTART:20261101T060000
END:STANDARD
END:VTIMEZONE
BEGIN:VEVENT
DTSTART;TZID=America/New_York:20250809T100000
DTEND;TZID=America/New_York:20250809T110000
DTSTAMP:20260422T230739
CREATED:20250701T140824Z
LAST-MODIFIED:20250701T142121Z
UID:15864-1754733600-1754737200@highlandcanine.com
SUMMARY:Cleveland\, OH: Intermediate Obedience (August 9\, 2025 to September 13\, 2025)
DESCRIPTION:Our next Intermediate Obedience class begins on August 9\, 2025! This class runs for six weeks and is an ideal way to build on the behaviors your dog learned in our Basic Obedience (or equivalent) class. \nClass Location\nAukerman Park\, 15561 York Rd\, North Royalton\, OH 44133 \nClass Dates & Times\nSaturday August 9\, 2025 to Saturday September 13\, 2025\n10:00am to 11:00am \nTrainer Contact Details\nEmma Caraballo\nemma@highlandcanine.com \nCurriculum\nSee a link to our Intermediate Obedience curriculum here. \nRegistration \nDue to demand\, registration and a $50 deposit is required for our group classes. You can make your deposit via PayPal through the secure form below. \n\n \n\n\n\n\nYour Full Name\n\n\n\n\n\n\nYour Dog’s Name
URL:https://highlandcanine.com/event/cleveland-oh-intermediate-obedience-august-9-2025-to-september-13-2025/
LOCATION:Aukerman Park\, 15561 York Rd\, North Royalton\, OH\, 44133\, United States
CATEGORIES:Group dog Training Classes
ATTACH;FMTTYPE=image/jpeg:https://highlandcanine.com/wp-content/uploads/2025/07/IMG_2068.jpg
END:VEVENT
BEGIN:VEVENT
DTSTART;TZID=America/New_York:20250825T173000
DTEND;TZID=America/New_York:20250825T183000
DTSTAMP:20260422T230739
CREATED:20250806T180843Z
LAST-MODIFIED:20250806T180843Z
UID:16023-1756143000-1756146600@highlandcanine.com
SUMMARY:Harmony\, NC: Intermediate Obedience Group Class (August 25\, 2025 to September 29\, 2025)
DESCRIPTION:Our next Intermediate Obedience Group Class begins on August 25\, 2025! This class runs for six weeks and is the perfect way to progress your dog’s obedience skills. \nClass Location\n145 Foxfield Dr\, Harmony\, NC 28634 \nClass Dates & Times\nMonday August 25\, 2025 to Monday September 29\, 2025\n5:30pm to 6:30pm \nTrainer Contact Details\nMagdalena Szymanska\nmag@highlandcanine.com \nCurriculum\nSee a link to our Intermediate Obedience curriculum here. \nRegistration \nDue to demand\, registration and a $50 deposit is required for our group classes. You can make your deposit via PayPal through the secure form below. \n\n \n\n\n\n\nYour Full Name\n\n\n\n\n\n\nYour Dog’s Name
URL:https://highlandcanine.com/event/harmony-nc-intermediate-obedience-group-class-august-25-2025-to-september-29-2025/
LOCATION:Highland Canine Training – NC Training Center\, 145 Foxfield Dr\, Harmony\, NC\, 28634\, United States
CATEGORIES:Group dog Training Classes
ATTACH;FMTTYPE=image/jpeg:https://highlandcanine.com/wp-content/uploads/2025/05/white-labrador-sitting-patiently.jpg
END:VEVENT
END:VCALENDAR