BEGIN:VCALENDAR
VERSION:2.0
PRODID:-//Highland Canine Training - ECPv6.15.10//NONSGML v1.0//EN
CALSCALE:GREGORIAN
METHOD:PUBLISH
X-WR-CALNAME:Highland Canine Training
X-ORIGINAL-URL:https://highlandcanine.com
X-WR-CALDESC:Events for Highland Canine Training
REFRESH-INTERVAL;VALUE=DURATION:PT1H
X-Robots-Tag:noindex
X-PUBLISHED-TTL:PT1H
BEGIN:VTIMEZONE
TZID:America/New_York
BEGIN:DAYLIGHT
TZOFFSETFROM:-0500
TZOFFSETTO:-0400
TZNAME:EDT
DTSTART:20240310T070000
END:DAYLIGHT
BEGIN:STANDARD
TZOFFSETFROM:-0400
TZOFFSETTO:-0500
TZNAME:EST
DTSTART:20241103T060000
END:STANDARD
BEGIN:DAYLIGHT
TZOFFSETFROM:-0500
TZOFFSETTO:-0400
TZNAME:EDT
DTSTART:20250309T070000
END:DAYLIGHT
BEGIN:STANDARD
TZOFFSETFROM:-0400
TZOFFSETTO:-0500
TZNAME:EST
DTSTART:20251102T060000
END:STANDARD
BEGIN:DAYLIGHT
TZOFFSETFROM:-0500
TZOFFSETTO:-0400
TZNAME:EDT
DTSTART:20260308T070000
END:DAYLIGHT
BEGIN:STANDARD
TZOFFSETFROM:-0400
TZOFFSETTO:-0500
TZNAME:EST
DTSTART:20261101T060000
END:STANDARD
END:VTIMEZONE
BEGIN:VEVENT
DTSTART;TZID=America/New_York:20250719T100000
DTEND;TZID=America/New_York:20250719T110000
DTSTAMP:20260423T003725
CREATED:20250703T130710Z
LAST-MODIFIED:20250703T132012Z
UID:15867-1752919200-1752922800@highlandcanine.com
SUMMARY:Harmony\, NC: Ground Work for Dock Diving (July 19\, 2025 to August 9\, 2025)
DESCRIPTION:Our next Ground Work for Dock Diving class begins on July 19\, 2025! This class works on the fundamentals you’ll need to build your dog’s confidence for the sport of dock diving. \nClass Location\n162 Early Ln\, Harmony\, NC 28634 \nClass Dates & Times\nSaturday July 19\, 2025 to Saturday August 9\, 2025\n10:00am to 11:00am \nTrainer Contact Details\nMarysa Rollings\nmarysa@highlandcanine.com \nCurriculum\nSee a link to our Ground Work for Dock Diving curriculum here. \nRegistration \nDue to demand\, registration and a $50 deposit is required for our group classes. You can make your deposit via PayPal through the secure form below. \n\n\n\n\n\nYour Full Name\n\n\n\n\n\n\nYour Dog’s Name\n\n\n\n\n\n\n\n \n\n 
URL:https://highlandcanine.com/event/harmony-nc-ground-work-for-dock-diving-july-19-2025-to-august-9-2025/
LOCATION:School for Dog Trainers – Main Campus\, 162 Early Ln\, Harmony\, NC\, 28634\, United States
CATEGORIES:Group dog Training Classes
ATTACH;FMTTYPE=image/jpeg:https://highlandcanine.com/wp-content/uploads/2023/10/confident-dog.jpg
END:VEVENT
END:VCALENDAR